BEGIN:VCALENDAR
VERSION:2.0
PRODID:-//Plone.org//NONSGML plone.app.event//EN
X-WR-TIMEZONE:Europe/Berlin
BEGIN:VEVENT
SUMMARY:Tag der Artenvielfalt
DTSTART;TZID=Europe/Berlin:20250525T100000
DTEND;TZID=Europe/Berlin:20250525T180000
DTSTAMP:20260423T005831Z
UID:9861610bb7e046ef8fb309fad4c65cf1@www.inres.uni-bonn.de
CREATED:20241014T075153Z
DESCRIPTION:Ein Markt der Möglichkeiten rund um die biologische Vielfalt:
  Einrichtungen und Organisationen aus Bonn und Umgebung präsentieren Viel
 falt und noch mehr: Biodiversität zum Anfassen.\n1992 haben die Vereinten
  Nationen ein Abkommen über die biologische Vielfalt beschlossen\, an dem
  bis heute fast alle Staaten der Welt mitwirken. Um dies zu würdigen\, wu
 rde der 22. Mai als Internationaler Tag der Artenvielfalt festgelegt.\n\nI
 n den Botanischen Gärten wollen wir das mit Ihnen zusammen am darauffolge
 nden Sonntag\, dem 25.\nMai 2025\, feiern. Rund um die Vielfalt von Pflanz
 en und Tieren gibt es an verschiedenen Ständen Angebote für Kinder und E
 rwachsene.
LAST-MODIFIED:20250906T024158Z
URL:https://www.inres.uni-bonn.de/de/inres/veranstaltungen/artenvielfalt_2
 025
END:VEVENT
BEGIN:VTIMEZONE
TZID:Europe/Berlin
X-LIC-LOCATION:Europe/Berlin
BEGIN:DAYLIGHT
DTSTART:20250330T030000
TZNAME:CEST
TZOFFSETFROM:+0100
TZOFFSETTO:+0200
END:DAYLIGHT
END:VTIMEZONE
END:VCALENDAR
