BEGIN:VCALENDAR
VERSION:2.0
PRODID:-//Plone.org//NONSGML plone.app.event//EN
X-WR-TIMEZONE:Europe/Berlin
BEGIN:VEVENT
SUMMARY:ARTS | Seminar Series with Hellen Kamiri
DTSTART;TZID=Europe/Berlin:20241121T171500
DTEND;TZID=Europe/Berlin:20241121T181500
DTSTAMP:20260424T074144Z
UID:0d5b61a6d65f418b94be4f33548d57de@www.inres.uni-bonn.de
CREATED:20240424T063353Z
DESCRIPTION:Lecture series on current topics of Resource Management with H
 ellen Kamiri (Karatina University) on "Navigating in an ecosystem of agric
 ultural\, natural resources\, and environment-related professions".
LAST-MODIFIED:20241120T065651Z
URL:https://www.inres.uni-bonn.de/de/inres/veranstaltungen/arts-kamiri
END:VEVENT
BEGIN:VTIMEZONE
TZID:Europe/Berlin
X-LIC-LOCATION:Europe/Berlin
BEGIN:STANDARD
DTSTART:20241027T020000
TZNAME:CET
TZOFFSETFROM:+0200
TZOFFSETTO:+0100
END:STANDARD
END:VTIMEZONE
END:VCALENDAR
