BEGIN:VCALENDAR
VERSION:2.0
PRODID:-//Plone.org//NONSGML plone.app.event//EN
X-WR-TIMEZONE:Europe/Berlin
BEGIN:VEVENT
SUMMARY:ARTS | Seminar Series with William Nelson
DTSTART;TZID=Europe/Berlin:20241212T171500
DTEND;TZID=Europe/Berlin:20241212T181500
DTSTAMP:20260425T182106Z
UID:7b7772830f444a4d9013daded9f208d8@www.inres.uni-bonn.de
CREATED:20240424T063353Z
DESCRIPTION:Lecture series on current topics of Resource Management with W
 illiam Nelson (WWF Germany) on "Connecting agricultural research to civil 
 society in Eastern & Southern Africa".
LAST-MODIFIED:20241126T061300Z
URL:https://www.inres.uni-bonn.de/de/inres/veranstaltungen/arts-nelson
END:VEVENT
BEGIN:VTIMEZONE
TZID:Europe/Berlin
X-LIC-LOCATION:Europe/Berlin
BEGIN:STANDARD
DTSTART:20241027T020000
TZNAME:CET
TZOFFSETFROM:+0200
TZOFFSETTO:+0100
END:STANDARD
END:VTIMEZONE
END:VCALENDAR
