BEGIN:VCALENDAR
VERSION:2.0
PRODID:-//Plone.org//NONSGML plone.app.event//EN
X-WR-TIMEZONE:Europe/Berlin
BEGIN:VEVENT
SUMMARY:ARTS Seminar
DTSTART;TZID=Europe/Berlin:20220505T170000
DTEND;TZID=Europe/Berlin:20220505T180000
DTSTAMP:20260424T045104Z
UID:51d21ec9a5f94aa3be39429ba290bde4@www.inres.uni-bonn.de
CREATED:20220407T115137Z
DESCRIPTION:Lecture series on current topics of resource management (summe
 r term 2022) with Peter Dannenberg / Gideon Tups on "Transboundary value c
 hains in Africa" via Zoom.
LAST-MODIFIED:20221130T093849Z
URL:https://www.inres.uni-bonn.de/de/inres/veranstaltungen/arts-seminar-6
END:VEVENT
BEGIN:VTIMEZONE
TZID:Europe/Berlin
X-LIC-LOCATION:Europe/Berlin
BEGIN:DAYLIGHT
DTSTART:20220327T030000
TZNAME:CEST
TZOFFSETFROM:+0100
TZOFFSETTO:+0200
END:DAYLIGHT
END:VTIMEZONE
END:VCALENDAR
