BEGIN:VCALENDAR
VERSION:2.0
PRODID:-//Plone.org//NONSGML plone.app.event//EN
X-WR-TIMEZONE:Europe/Berlin
BEGIN:VEVENT
SUMMARY:PhenoRob | Talk
DTSTART;TZID=Europe/Berlin:20211018T153000
DTEND;TZID=Europe/Berlin:20211018T163000
DTSTAMP:20260423T072849Z
UID:52cd83747db3439db6ac8fa1835ff038@www.inres.uni-bonn.de
CREATED:20211026T085018Z
DESCRIPTION:David Bullock: (University of Illinois Urbana-Champain/AIFARMS
 ) “Contributing to an International Cyber-infrastructure for On-Farm Pre
 cision Experimentation"
LAST-MODIFIED:20221130T093849Z
URL:https://www.inres.uni-bonn.de/de/inres/veranstaltungen/phenorob-talk
END:VEVENT
BEGIN:VTIMEZONE
TZID:Europe/Berlin
X-LIC-LOCATION:Europe/Berlin
BEGIN:DAYLIGHT
DTSTART:20210328T030000
TZNAME:CEST
TZOFFSETFROM:+0100
TZOFFSETTO:+0200
END:DAYLIGHT
END:VTIMEZONE
END:VCALENDAR
