BEGIN:VCALENDAR
VERSION:2.0
PRODID:-//Plone.org//NONSGML plone.app.event//EN
X-WR-TIMEZONE:Europe/Berlin
BEGIN:VEVENT
SUMMARY:Prof. Hans Lambers | Talk
DTSTART;TZID=Europe/Berlin:20240226T100000
DTEND;TZID=Europe/Berlin:20240226T110000
DTSTAMP:20260424T044928Z
UID:e4f103c48632459da753e047a3a99f45@www.inres.uni-bonn.de
CREATED:20240219T123540Z
DESCRIPTION:Prof. Hans Lambers from University of Western Australia\, Hono
 rary Professor\, China Agricultural University on "Carboxylate-releasing p
 hosphorus-mobilising strategies are pervasive in phosphorus-impoverished l
 andscapes". Please find his classical and pioneering work on root ecology 
 and root function (https://research-repository.uwa.edu.au/en/persons/hans-
 lambers).
LAST-MODIFIED:20250906T024411Z
URL:https://www.inres.uni-bonn.de/de/inres/veranstaltungen/prof-hans-lambe
 rs-talk
END:VEVENT
BEGIN:VTIMEZONE
TZID:Europe/Berlin
X-LIC-LOCATION:Europe/Berlin
BEGIN:STANDARD
DTSTART:20231029T020000
TZNAME:CET
TZOFFSETFROM:+0200
TZOFFSETTO:+0100
END:STANDARD
END:VTIMEZONE
END:VCALENDAR
