BEGIN:VCALENDAR
VERSION:2.0
PRODID:-//Plone.org//NONSGML plone.app.event//EN
X-WR-TIMEZONE:Europe/Berlin
BEGIN:VEVENT
SUMMARY:ARTS Seminar
DTSTART;TZID=Europe/Berlin:20220127T170000
DTEND;TZID=Europe/Berlin:20220127T180000
DTSTAMP:20260422T042818Z
UID:1ec1eb91d4a546f6bd27eb977ea5d28e@www.inres.uni-bonn.de
CREATED:20211209T120443Z
DESCRIPTION:Lecture series on current topics of resource management with F
 olkard Asch on "Sea level rice and land use in Asian deltas" via Zoom (Mee
 ting-ID: 970 7536 5594\; Password: 382623).
LAST-MODIFIED:20250906T024622Z
URL:https://www.inres.uni-bonn.de/en/about/events/arts-seminar-3
END:VEVENT
BEGIN:VTIMEZONE
TZID:Europe/Berlin
X-LIC-LOCATION:Europe/Berlin
BEGIN:STANDARD
DTSTART:20211031T020000
TZNAME:CET
TZOFFSETFROM:+0200
TZOFFSETTO:+0100
END:STANDARD
END:VTIMEZONE
END:VCALENDAR
