BEGIN:VCALENDAR
VERSION:2.0
PRODID:-//Plone.org//NONSGML plone.app.event//EN
X-WR-TIMEZONE:Europe/Berlin
BEGIN:VEVENT
SUMMARY:PhenoRob | Seminar Series
DTSTART;TZID=Europe/Berlin:20231020T100000
DTEND;TZID=Europe/Berlin:20231020T120000
DTSTAMP:20260425T155359Z
UID:f062af7a8dba4b2fb4645209f41fb88a@www.inres.uni-bonn.de
CREATED:20230915T095304Z
DESCRIPTION:41st PhenoRob Seminar Series with Ana Meijide (University of B
 onn) on “Approaches to Study and Mitigate Greenhouse Gas Fluxes from Agr
 iculture” and David Wüpper (University of Bonn) on "Modelling the Profi
 tability of AgriculturalInnovations at the Globale Level" .
LAST-MODIFIED:20230915T095341Z
URL:https://www.inres.uni-bonn.de/en/about/events/phenorob-seminar-series-
 9
END:VEVENT
BEGIN:VTIMEZONE
TZID:Europe/Berlin
X-LIC-LOCATION:Europe/Berlin
BEGIN:DAYLIGHT
DTSTART:20230326T030000
TZNAME:CEST
TZOFFSETFROM:+0100
TZOFFSETTO:+0200
END:DAYLIGHT
END:VTIMEZONE
END:VCALENDAR
