BEGIN:VCALENDAR
VERSION:2.0
PRODID:-//Plone.org//NONSGML plone.app.event//EN
X-WR-TIMEZONE:Europe/Berlin
BEGIN:VEVENT
SUMMARY:PhenoRob | Women in Science
DTSTART;TZID=Europe/Berlin:20211217T100000
DTEND;TZID=Europe/Berlin:20211217T120000
DTSTAMP:20260424T082549Z
UID:e002d1650134461f943194dbd1693a46@www.inres.uni-bonn.de
CREATED:20211206T121352Z
DESCRIPTION:Women in Science Talk with Ixchel M. Hernández Ochoa (Uni Bon
 n) on “Model-aid evaluation and design of spatio-temporal crop diversifi
 cation at the landscape scale by considering field heterogenities” and S
 ara Bauke (Uni Bonn) on “Integrating subsoil nutrients into agricultural
  management” via ZOOM (Meeting-ID: 921 7749 2894\; Kenncode: 447194)
LAST-MODIFIED:20221130T093849Z
URL:https://www.inres.uni-bonn.de/en/about/events/phenorob-women-in-scienc
 e
END:VEVENT
BEGIN:VTIMEZONE
TZID:Europe/Berlin
X-LIC-LOCATION:Europe/Berlin
BEGIN:STANDARD
DTSTART:20211031T020000
TZNAME:CET
TZOFFSETFROM:+0200
TZOFFSETTO:+0100
END:STANDARD
END:VTIMEZONE
END:VCALENDAR
